Package: metabCombiner Version: 1.16.0 Command: rm -rf metabCombiner.buildbin-libdir && mkdir metabCombiner.buildbin-libdir && F:\biocbuild\bbs-3.20-bioc\R\bin\R.exe CMD INSTALL --build --library=metabCombiner.buildbin-libdir metabCombiner_1.16.0.tar.gz StartedAt: 2025-02-04 08:52:35 -0500 (Tue, 04 Feb 2025) EndedAt: 2025-02-04 08:54:37 -0500 (Tue, 04 Feb 2025) EllapsedTime: 121.7 seconds RetCode: 0 Status: OK PackageFile: metabCombiner_1.16.0.zip PackageFileSize: 2.874 MiB