Package: metabCombiner Version: 1.16.0 Command: chmod a+r metabCombiner -R && F:\biocbuild\bbs-3.20-bioc\R\bin\R.exe CMD build --keep-empty-dirs --no-resave-data metabCombiner StartedAt: 2025-02-10 20:07:34 -0500 (Mon, 10 Feb 2025) EndedAt: 2025-02-10 20:08:46 -0500 (Mon, 10 Feb 2025) EllapsedTime: 72.1 seconds RetCode: 0 Status: OK PackageFile: metabCombiner_1.16.0.tar.gz PackageFileSize: 2.485 MiB