Package: metabCombiner Version: 1.16.0 Command: /home/biocbuild/R/R/bin/R CMD build --keep-empty-dirs --no-resave-data metabCombiner StartedAt: 2025-02-04 00:46:39 -0000 (Tue, 04 Feb 2025) EndedAt: 2025-02-04 00:47:18 -0000 (Tue, 04 Feb 2025) EllapsedTime: 39.0 seconds RetCode: 0 Status: OK PackageFile: metabCombiner_1.16.0.tar.gz PackageFileSize: 2.535 MiB