Package: metabinR Version: 1.8.0 Command: /Library/Frameworks/R.framework/Resources/bin/R CMD build --keep-empty-dirs --no-resave-data metabinR StartedAt: 2025-02-04 02:48:47 -0500 (Tue, 04 Feb 2025) EndedAt: 2025-02-04 02:49:49 -0500 (Tue, 04 Feb 2025) EllapsedTime: 62.1 seconds RetCode: 0 Status: OK PackageFile: metabinR_1.8.0.tar.gz PackageFileSize: 4.39 MiB