Package: metabinR Version: 1.8.0 Command: /Library/Frameworks/R.framework/Resources/bin/R CMD check --install=check:metabinR.install-out.txt --library=/Library/Frameworks/R.framework/Resources/library --no-vignettes --timings metabinR_1.8.0.tar.gz StartedAt: 2025-02-05 01:01:48 -0500 (Wed, 05 Feb 2025) EndedAt: 2025-02-05 01:03:05 -0500 (Wed, 05 Feb 2025) EllapsedTime: 77.0 seconds RetCode: 0 Status: OK CheckDir: metabinR.Rcheck Warnings: 0