Package: metabinR Version: 1.8.0 Command: /Library/Frameworks/R.framework/Resources/bin/R CMD build --keep-empty-dirs --no-resave-data metabinR StartedAt: 2025-02-03 20:07:55 -0500 (Mon, 03 Feb 2025) EndedAt: 2025-02-03 20:09:12 -0500 (Mon, 03 Feb 2025) EllapsedTime: 77.6 seconds RetCode: 0 Status: OK PackageFile: metabinR_1.8.0.tar.gz PackageFileSize: 4.389 MiB