Package: metabinR Version: 1.8.0 Command: /home/biocbuild/bbs-3.20-bioc/R/bin/R CMD build --keep-empty-dirs --no-resave-data --md5 metabinR StartedAt: 2025-02-10 17:59:13 -0500 (Mon, 10 Feb 2025) EndedAt: 2025-02-10 17:59:55 -0500 (Mon, 10 Feb 2025) EllapsedTime: 42.0 seconds RetCode: 0 Status: OK PackageFile: metabinR_1.8.0.tar.gz PackageFileSize: 4.397 MiB