Package: metabinR Version: 1.8.0 Command: chmod a+r metabinR -R && F:\biocbuild\bbs-3.20-bioc\R\bin\R.exe CMD build --keep-empty-dirs --no-resave-data metabinR StartedAt: 2025-02-10 20:07:42 -0500 (Mon, 10 Feb 2025) EndedAt: 2025-02-10 20:08:47 -0500 (Mon, 10 Feb 2025) EllapsedTime: 64.8 seconds RetCode: 0 Status: OK PackageFile: metabinR_1.8.0.tar.gz PackageFileSize: 4.355 MiB