Package: metabinR Version: 1.8.0 Command: F:\biocbuild\bbs-3.20-bioc\R\bin\R.exe CMD check --no-multiarch --install=check:metabinR.install-out.txt --library=F:\biocbuild\bbs-3.20-bioc\R\library --no-vignettes --timings metabinR_1.8.0.tar.gz StartedAt: 2025-02-04 03:30:20 -0500 (Tue, 04 Feb 2025) EndedAt: 2025-02-04 03:31:35 -0500 (Tue, 04 Feb 2025) EllapsedTime: 75.0 seconds RetCode: 0 Status: OK CheckDir: metabinR.Rcheck Warnings: 0