Package: metabomxtr Version: 1.40.0 Command: /Library/Frameworks/R.framework/Resources/bin/R CMD build --keep-empty-dirs --no-resave-data metabomxtr StartedAt: 2025-02-11 02:52:28 -0500 (Tue, 11 Feb 2025) EndedAt: 2025-02-11 02:53:04 -0500 (Tue, 11 Feb 2025) EllapsedTime: 36.5 seconds RetCode: 0 Status: OK PackageFile: metabomxtr_1.40.0.tar.gz PackageFileSize: 559.1 KiB