Package: metabomxtr Version: 1.40.0 Command: F:\biocbuild\bbs-3.20-bioc\R\bin\R.exe CMD check --no-multiarch --install=check:metabomxtr.install-out.txt --library=F:\biocbuild\bbs-3.20-bioc\R\library --no-vignettes --timings metabomxtr_1.40.0.tar.gz StartedAt: 2025-02-11 03:24:41 -0500 (Tue, 11 Feb 2025) EndedAt: 2025-02-11 03:26:56 -0500 (Tue, 11 Feb 2025) EllapsedTime: 135.4 seconds RetCode: 0 Status: OK CheckDir: metabomxtr.Rcheck Warnings: 0