Package: metapod Version: 1.14.0 Command: /Library/Frameworks/R.framework/Resources/bin/R CMD build --keep-empty-dirs --no-resave-data metapod StartedAt: 2025-02-04 02:53:19 -0500 (Tue, 04 Feb 2025) EndedAt: 2025-02-04 02:53:47 -0500 (Tue, 04 Feb 2025) EllapsedTime: 28.4 seconds RetCode: 0 Status: OK PackageFile: metapod_1.14.0.tar.gz PackageFileSize: 323.5 KiB