Package: metapod Version: 1.14.0 Command: /Library/Frameworks/R.framework/Resources/bin/R CMD check --install=check:metapod.install-out.txt --library=/Library/Frameworks/R.framework/Resources/library --no-vignettes --timings metapod_1.14.0.tar.gz StartedAt: 2025-02-05 01:11:06 -0500 (Wed, 05 Feb 2025) EndedAt: 2025-02-05 01:11:44 -0500 (Wed, 05 Feb 2025) EllapsedTime: 38.4 seconds RetCode: 0 Status: OK CheckDir: metapod.Rcheck Warnings: 0