Package: metapod Version: 1.14.0 Command: /Library/Frameworks/R.framework/Resources/bin/R CMD build --keep-empty-dirs --no-resave-data metapod StartedAt: 2025-02-03 20:09:51 -0500 (Mon, 03 Feb 2025) EndedAt: 2025-02-03 20:10:43 -0500 (Mon, 03 Feb 2025) EllapsedTime: 52.4 seconds RetCode: 0 Status: OK PackageFile: metapod_1.14.0.tar.gz PackageFileSize: 323.5 KiB