Package: metapod Version: 1.14.0 Command: /Library/Frameworks/R.framework/Resources/bin/R CMD check --install=check:metapod.install-out.txt --library=/Library/Frameworks/R.framework/Resources/library --no-vignettes --timings metapod_1.14.0.tar.gz StartedAt: 2025-02-04 06:05:19 -0500 (Tue, 04 Feb 2025) EndedAt: 2025-02-04 06:06:29 -0500 (Tue, 04 Feb 2025) EllapsedTime: 70.0 seconds RetCode: 0 Status: OK CheckDir: metapod.Rcheck Warnings: 0