Package: metapod Version: 1.14.0 Command: /Library/Frameworks/R.framework/Resources/bin/R CMD INSTALL metapod StartedAt: 2025-02-10 15:04:54 -0500 (Mon, 10 Feb 2025) EndedAt: 2025-02-10 15:05:43 -0500 (Mon, 10 Feb 2025) EllapsedTime: 49.0 seconds RetCode: 0 Status: OK