Package: metapod Version: 1.14.0 Command: F:\biocbuild\bbs-3.20-bioc\R\bin\R.exe CMD check --no-multiarch --install=check:metapod.install-out.txt --library=F:\biocbuild\bbs-3.20-bioc\R\library --no-vignettes --timings metapod_1.14.0.tar.gz StartedAt: 2025-02-04 03:32:53 -0500 (Tue, 04 Feb 2025) EndedAt: 2025-02-04 03:33:55 -0500 (Tue, 04 Feb 2025) EllapsedTime: 62.3 seconds RetCode: 0 Status: OK CheckDir: metapod.Rcheck Warnings: 0