Package: metapod Version: 1.14.0 Command: F:\biocbuild\bbs-3.20-bioc\R\bin\R.exe CMD INSTALL metapod StartedAt: 2025-02-10 15:27:28 -0500 (Mon, 10 Feb 2025) EndedAt: 2025-02-10 15:28:24 -0500 (Mon, 10 Feb 2025) EllapsedTime: 55.8 seconds RetCode: 0 Status: OK