Package: metapone Version: 1.12.0 Command: /Library/Frameworks/R.framework/Resources/bin/R CMD build --keep-empty-dirs --no-resave-data metapone StartedAt: 2025-02-03 20:09:51 -0500 (Mon, 03 Feb 2025) EndedAt: 2025-02-03 20:35:54 -0500 (Mon, 03 Feb 2025) EllapsedTime: 1563.3 seconds RetCode: 0 Status: OK PackageFile: metapone_1.12.0.tar.gz PackageFileSize: 3.746 MiB