Package: metapone Version: 1.12.0 Command: /Library/Frameworks/R.framework/Resources/bin/R CMD check --install=check:metapone.install-out.txt --library=/Library/Frameworks/R.framework/Resources/library --no-vignettes --timings metapone_1.12.0.tar.gz StartedAt: 2025-02-04 06:05:43 -0500 (Tue, 04 Feb 2025) EndedAt: 2025-02-04 06:12:35 -0500 (Tue, 04 Feb 2025) EllapsedTime: 412.2 seconds RetCode: 0 Status: OK CheckDir: metapone.Rcheck Warnings: 0