Package: metapone Version: 1.12.0 Command: /Library/Frameworks/R.framework/Resources/bin/R CMD INSTALL metapone StartedAt: 2025-02-03 16:16:47 -0500 (Mon, 03 Feb 2025) EndedAt: 2025-02-03 16:17:21 -0500 (Mon, 03 Feb 2025) EllapsedTime: 33.5 seconds RetCode: 0 Status: OK