Package: metapone Version: 1.12.0 Command: /home/biocbuild/bbs-3.20-bioc/R/bin/R CMD check --install=check:metapone.install-out.txt --library=/home/biocbuild/bbs-3.20-bioc/R/site-library --timings metapone_1.12.0.tar.gz StartedAt: 2025-02-03 23:56:33 -0500 (Mon, 03 Feb 2025) EndedAt: 2025-02-04 00:09:26 -0500 (Tue, 04 Feb 2025) EllapsedTime: 772.7 seconds RetCode: 0 Status: OK CheckDir: metapone.Rcheck Warnings: 0