Package: metapone Version: 1.12.0 Command: /home/biocbuild/bbs-3.20-bioc/R/bin/R CMD INSTALL metapone StartedAt: 2025-02-03 15:50:32 -0500 (Mon, 03 Feb 2025) EndedAt: 2025-02-03 15:50:48 -0500 (Mon, 03 Feb 2025) EllapsedTime: 15.8 seconds RetCode: 0 Status: OK