Package: metapone Version: 1.12.0 Command: chmod a+r metapone -R && F:\biocbuild\bbs-3.20-bioc\R\bin\R.exe CMD build --keep-empty-dirs --no-resave-data metapone StartedAt: 2025-02-03 20:14:43 -0500 (Mon, 03 Feb 2025) EndedAt: 2025-02-03 20:32:36 -0500 (Mon, 03 Feb 2025) EllapsedTime: 1073.2 seconds RetCode: 0 Status: OK PackageFile: metapone_1.12.0.tar.gz PackageFileSize: 3.702 MiB