Package: metapone Version: 1.12.0 Command: /home/biocbuild/R/R/bin/R CMD build --keep-empty-dirs --no-resave-data metapone StartedAt: 2025-02-04 00:48:16 -0000 (Tue, 04 Feb 2025) EndedAt: 2025-02-04 01:01:52 -0000 (Tue, 04 Feb 2025) EllapsedTime: 816.3 seconds RetCode: 0 Status: OK PackageFile: metapone_1.12.0.tar.gz PackageFileSize: 3.711 MiB