Package: metaseqR2 Version: 1.18.0 Command: rm -rf metaseqR2.buildbin-libdir && mkdir metaseqR2.buildbin-libdir && /Users/biocbuild/BBS/utils/build-universal.sh metaseqR2_1.18.0.tar.gz /Library/Frameworks/R.framework/Resources/bin/R metaseqR2.buildbin-libdir StartedAt: 2025-02-01 15:39:07 -0500 (Sat, 01 Feb 2025) EndedAt: 2025-02-01 15:40:40 -0500 (Sat, 01 Feb 2025) EllapsedTime: 93.4 seconds RetCode: 0 Status: OK PackageFile: metaseqR2_1.18.0.tgz PackageFileSize: 4.498 MiB