Package: metaseqR2 Version: 1.18.0 Command: /Library/Frameworks/R.framework/Resources/bin/R CMD build --keep-empty-dirs --no-resave-data metaseqR2 StartedAt: 2025-01-30 20:30:29 -0500 (Thu, 30 Jan 2025) EndedAt: 2025-01-30 20:52:52 -0500 (Thu, 30 Jan 2025) EllapsedTime: 1343.3 seconds RetCode: 0 Status: OK PackageFile: metaseqR2_1.18.0.tar.gz PackageFileSize: 2.655 MiB