Package: metaseqR2 Version: 1.18.0 Command: /home/biocbuild/bbs-3.20-bioc/R/bin/R CMD check --install=check:metaseqR2.install-out.txt --library=/home/biocbuild/bbs-3.20-bioc/R/site-library --timings metaseqR2_1.18.0.tar.gz StartedAt: 2025-01-30 23:46:39 -0500 (Thu, 30 Jan 2025) EndedAt: 2025-01-31 00:02:31 -0500 (Fri, 31 Jan 2025) EllapsedTime: 951.8 seconds RetCode: 0 Status: OK CheckDir: metaseqR2.Rcheck Warnings: 0