Package: metaseqR2 Version: 1.18.0 Command: rm -rf metaseqR2.buildbin-libdir && mkdir metaseqR2.buildbin-libdir && F:\biocbuild\bbs-3.20-bioc\R\bin\R.exe CMD INSTALL --build --library=metaseqR2.buildbin-libdir metaseqR2_1.18.0.tar.gz StartedAt: 2025-01-31 09:01:03 -0500 (Fri, 31 Jan 2025) EndedAt: 2025-01-31 09:03:30 -0500 (Fri, 31 Jan 2025) EllapsedTime: 147.4 seconds RetCode: 0 Status: OK PackageFile: metaseqR2_1.18.0.zip PackageFileSize: 4.497 MiB