Package: metaseqR2 Version: 1.18.0 Command: F:\biocbuild\bbs-3.20-bioc\R\bin\R.exe CMD INSTALL metaseqR2 StartedAt: 2025-02-03 17:11:22 -0500 (Mon, 03 Feb 2025) EndedAt: 2025-02-03 17:13:37 -0500 (Mon, 03 Feb 2025) EllapsedTime: 134.7 seconds RetCode: 0 Status: OK