Package: metaseqR2 Version: 1.18.0 Command: /home/biocbuild/R/R/bin/R CMD build --keep-empty-dirs --no-resave-data metaseqR2 StartedAt: 2025-02-04 00:48:39 -0000 (Tue, 04 Feb 2025) EndedAt: 2025-02-04 00:59:17 -0000 (Tue, 04 Feb 2025) EllapsedTime: 638.2 seconds RetCode: 1 Status: ERROR PackageFile: None PackageFileSize: NA