Package: methInheritSim Version: 1.28.0 Command: rm -rf methInheritSim.buildbin-libdir && mkdir methInheritSim.buildbin-libdir && /Users/biocbuild/BBS/utils/build-universal.sh methInheritSim_1.28.0.tar.gz /Library/Frameworks/R.framework/Resources/bin/R methInheritSim.buildbin-libdir StartedAt: 2025-02-01 15:39:17 -0500 (Sat, 01 Feb 2025) EndedAt: 2025-02-01 15:40:05 -0500 (Sat, 01 Feb 2025) EllapsedTime: 48.4 seconds RetCode: 0 Status: OK PackageFile: methInheritSim_1.28.0.tgz PackageFileSize: 713.8 KiB