Package: methInheritSim Version: 1.28.0 Command: rm -rf methInheritSim.buildbin-libdir && mkdir methInheritSim.buildbin-libdir && /Users/biocbuild/BBS/utils/build-universal.sh methInheritSim_1.28.0.tar.gz /Library/Frameworks/R.framework/Resources/bin/R methInheritSim.buildbin-libdir StartedAt: 2025-02-04 13:23:24 -0500 (Tue, 04 Feb 2025) EndedAt: 2025-02-04 13:25:13 -0500 (Tue, 04 Feb 2025) EllapsedTime: 109.7 seconds RetCode: 0 Status: OK PackageFile: methInheritSim_1.28.0.tgz PackageFileSize: 713.5 KiB