Package: methInheritSim Version: 1.28.0 Command: /Library/Frameworks/R.framework/Resources/bin/R CMD build --keep-empty-dirs --no-resave-data methInheritSim StartedAt: 2025-02-10 20:10:29 -0500 (Mon, 10 Feb 2025) EndedAt: 2025-02-10 20:13:03 -0500 (Mon, 10 Feb 2025) EllapsedTime: 154.0 seconds RetCode: 0 Status: OK PackageFile: methInheritSim_1.28.0.tar.gz PackageFileSize: 1.117 MiB