Package: methInheritSim Version: 1.28.0 Command: /Library/Frameworks/R.framework/Resources/bin/R CMD check --install=check:methInheritSim.install-out.txt --library=/Library/Frameworks/R.framework/Resources/library --no-vignettes --timings methInheritSim_1.28.0.tar.gz StartedAt: 2025-02-04 06:06:29 -0500 (Tue, 04 Feb 2025) EndedAt: 2025-02-04 06:16:57 -0500 (Tue, 04 Feb 2025) EllapsedTime: 627.9 seconds RetCode: 0 Status: OK CheckDir: methInheritSim.Rcheck Warnings: 0