Package: methInheritSim Version: 1.28.0 Command: /home/biocbuild/bbs-3.20-bioc/R/bin/R CMD INSTALL methInheritSim StartedAt: 2025-02-03 15:53:05 -0500 (Mon, 03 Feb 2025) EndedAt: 2025-02-03 15:53:47 -0500 (Mon, 03 Feb 2025) EllapsedTime: 41.8 seconds RetCode: 0 Status: OK