Package: methInheritSim Version: 1.28.0 Command: chmod a+r methInheritSim -R && F:\biocbuild\bbs-3.20-bioc\R\bin\R.exe CMD build --keep-empty-dirs --no-resave-data methInheritSim StartedAt: 2025-02-03 20:15:13 -0500 (Mon, 03 Feb 2025) EndedAt: 2025-02-03 20:16:44 -0500 (Mon, 03 Feb 2025) EllapsedTime: 91.7 seconds RetCode: 0 Status: OK PackageFile: methInheritSim_1.28.0.tar.gz PackageFileSize: 1.117 MiB