Package: methInheritSim Version: 1.28.0 Command: /home/biocbuild/R/R/bin/R CMD build --keep-empty-dirs --no-resave-data methInheritSim StartedAt: 2025-02-04 00:48:55 -0000 (Tue, 04 Feb 2025) EndedAt: 2025-02-04 00:50:18 -0000 (Tue, 04 Feb 2025) EllapsedTime: 83.0 seconds RetCode: 0 Status: OK PackageFile: methInheritSim_1.28.0.tar.gz PackageFileSize: 1.141 MiB