Package: methInheritSim Version: 1.28.0 Command: /home/biocbuild/R/R/bin/R CMD INSTALL methInheritSim StartedAt: 2025-02-10 20:53:45 -0000 (Mon, 10 Feb 2025) EndedAt: 2025-02-10 20:54:31 -0000 (Mon, 10 Feb 2025) EllapsedTime: 46.1 seconds RetCode: 0 Status: OK