Package: methimpute Version: 1.28.0 Command: /Library/Frameworks/R.framework/Resources/bin/R CMD check --install=check:methimpute.install-out.txt --library=/Library/Frameworks/R.framework/Resources/library --no-vignettes --timings methimpute_1.28.0.tar.gz StartedAt: 2025-02-04 06:06:16 -0500 (Tue, 04 Feb 2025) EndedAt: 2025-02-04 06:11:24 -0500 (Tue, 04 Feb 2025) EllapsedTime: 307.7 seconds RetCode: 0 Status: WARNINGS CheckDir: methimpute.Rcheck Warnings: 1