Package: methimpute Version: 1.28.0 Command: /home/biocbuild/bbs-3.20-bioc/R/bin/R CMD check --install=check:methimpute.install-out.txt --library=/home/biocbuild/bbs-3.20-bioc/R/site-library --timings methimpute_1.28.0.tar.gz StartedAt: 2025-02-03 23:57:11 -0500 (Mon, 03 Feb 2025) EndedAt: 2025-02-04 00:00:40 -0500 (Tue, 04 Feb 2025) EllapsedTime: 208.2 seconds RetCode: 0 Status: WARNINGS CheckDir: methimpute.Rcheck Warnings: 1