Package: methimpute Version: 1.28.0 Command: chmod a+r methimpute -R && F:\biocbuild\bbs-3.20-bioc\R\bin\R.exe CMD build --keep-empty-dirs --no-resave-data methimpute StartedAt: 2025-02-03 20:15:11 -0500 (Mon, 03 Feb 2025) EndedAt: 2025-02-03 20:18:19 -0500 (Mon, 03 Feb 2025) EllapsedTime: 187.8 seconds RetCode: 0 Status: OK PackageFile: methimpute_1.28.0.tar.gz PackageFileSize: 1.269 MiB