Package: methimpute Version: 1.28.0 Command: /home/biocbuild/R/R/bin/R CMD build --keep-empty-dirs --no-resave-data methimpute StartedAt: 2025-02-04 00:48:51 -0000 (Tue, 04 Feb 2025) EndedAt: 2025-02-04 00:51:35 -0000 (Tue, 04 Feb 2025) EllapsedTime: 164.0 seconds RetCode: 0 Status: OK PackageFile: methimpute_1.28.0.tar.gz PackageFileSize: 1.259 MiB