Package: methimpute Version: 1.28.0 Command: /home/biocbuild/R/R/bin/R CMD check --install=check:methimpute.install-out.txt --library=/home/biocbuild/R/R/site-library --no-vignettes --timings methimpute_1.28.0.tar.gz StartedAt: 2025-02-04 08:37:18 -0000 (Tue, 04 Feb 2025) EndedAt: 2025-02-04 08:40:06 -0000 (Tue, 04 Feb 2025) EllapsedTime: 168.2 seconds RetCode: 0 Status: WARNINGS CheckDir: methimpute.Rcheck Warnings: 1