Package: methodical Version: 1.2.0 Maintainer: Richard Heery MaintainerEmail: richardheery at gmail.com git_url: https://git.bioconductor.org/packages/methodical git_branch: RELEASE_3_20 git_last_commit: 302d9e2 git_last_commit_date: 2025-01-30 04:59:50 -0500 (Thu, 30 Jan 2025)