Package: methodical Version: 1.2.0 Command: /Library/Frameworks/R.framework/Resources/bin/R CMD check --install=check:methodical.install-out.txt --library=/Library/Frameworks/R.framework/Resources/library --no-vignettes --timings methodical_1.2.0.tar.gz StartedAt: 2025-02-05 01:15:46 -0500 (Wed, 05 Feb 2025) EndedAt: 2025-02-05 01:28:29 -0500 (Wed, 05 Feb 2025) EllapsedTime: 763.2 seconds RetCode: 0 Status: WARNINGS CheckDir: methodical.Rcheck Warnings: 1