Package: methodical Version: 1.2.0 Command: /Library/Frameworks/R.framework/Resources/bin/R CMD build --keep-empty-dirs --no-resave-data methodical StartedAt: 2025-02-03 20:10:58 -0500 (Mon, 03 Feb 2025) EndedAt: 2025-02-03 20:42:37 -0500 (Mon, 03 Feb 2025) EllapsedTime: 1898.7 seconds RetCode: 0 Status: OK PackageFile: methodical_1.2.0.tar.gz PackageFileSize: 4.369 MiB