Package: methodical Version: 1.2.0 Command: /Library/Frameworks/R.framework/Resources/bin/R CMD check --install=check:methodical.install-out.txt --library=/Library/Frameworks/R.framework/Resources/library --no-vignettes --timings methodical_1.2.0.tar.gz StartedAt: 2025-02-11 06:08:44 -0500 (Tue, 11 Feb 2025) EndedAt: 2025-02-11 06:27:11 -0500 (Tue, 11 Feb 2025) EllapsedTime: 1106.7 seconds RetCode: 0 Status: WARNINGS CheckDir: methodical.Rcheck Warnings: 1