Package: methylCC Version: 1.20.0 Command: rm -rf methylCC.buildbin-libdir && mkdir methylCC.buildbin-libdir && /Users/biocbuild/BBS/utils/build-universal.sh methylCC_1.20.0.tar.gz /Library/Frameworks/R.framework/Resources/bin/R methylCC.buildbin-libdir StartedAt: 2025-02-05 16:35:46 -0500 (Wed, 05 Feb 2025) EndedAt: 2025-02-05 16:36:49 -0500 (Wed, 05 Feb 2025) EllapsedTime: 63.4 seconds RetCode: 0 Status: OK PackageFile: methylCC_1.20.0.tgz PackageFileSize: 4.713 MiB