Package: methylCC Version: 1.20.0 Command: /Library/Frameworks/R.framework/Resources/bin/R CMD INSTALL methylCC StartedAt: 2025-02-10 18:12:43 -0500 (Mon, 10 Feb 2025) EndedAt: 2025-02-10 18:13:44 -0500 (Mon, 10 Feb 2025) EllapsedTime: 61.2 seconds RetCode: 0 Status: OK